BEGIN:VCALENDAR
VERSION:2.0
PRODID:SchoolNow
CALSCALE:GREGORIAN
BEGIN:VEVENT
UID:2ee5d4fa-73d9-11f0-9676-0affd0ce0cf9
DTSTAMP:20251216T154650Z
SUMMARY:Instrumental Recruitment - 4th graders BE  Auditorium
URL;VALUE=URI:https://www.adirondackcsd.org/calendar/8480503/instrumental-r
 ecruitment-4th-graders-be-auditorium
DTSTART:20250911T230000Z
DTEND:20250912T003000Z
END:VEVENT
END:VCALENDAR
