BEGIN:VCALENDAR
VERSION:2.0
PRODID:SchoolNow
CALSCALE:GREGORIAN
BEGIN:VEVENT
UID:2ee5d8e2-73d9-11f0-a0b2-0affd0ce0cf9
DTSTAMP:20251216T154650Z
SUMMARY:HS/MS Picture Day
URL;VALUE=URI:https://www.adirondackcsd.org/calendar/8480507/hs-ms-picture-
 day
DTSTART;VALUE=DATE:20251006
DTEND;VALUE=DATE:20251007
END:VEVENT
END:VCALENDAR
