BEGIN:VCALENDAR
VERSION:2.0
PRODID:SchoolNow
CALSCALE:GREGORIAN
BEGIN:VEVENT
UID:2ee5d9c8-73d9-11f0-b509-0affd0ce0cf9
DTSTAMP:20251216T154650Z
SUMMARY:Columbus Day - No School
URL;VALUE=URI:https://www.adirondackcsd.org/calendar/8480508/columbus-day-n
 o-school
DTSTART;VALUE=DATE:20251013
DTEND;VALUE=DATE:20251014
END:VEVENT
END:VCALENDAR
