BEGIN:VCALENDAR
VERSION:2.0
PRODID:SchoolNow
CALSCALE:GREGORIAN
BEGIN:VEVENT
UID:2ee5db94-73d9-11f0-8d7e-0affd0ce0cf9
DTSTAMP:20251216T154650Z
SUMMARY:Spirit Week/Homecoming Week
URL;VALUE=URI:https://www.adirondackcsd.org/calendar/8480510/spirit-week-ho
 mecoming-week
DTSTART;VALUE=DATE:20251014
DTEND;VALUE=DATE:20251019
END:VEVENT
END:VCALENDAR
