BEGIN:VCALENDAR
VERSION:2.0
PRODID:SchoolNow
CALSCALE:GREGORIAN
BEGIN:VEVENT
UID:2ee5dc7a-73d9-11f0-a648-0affd0ce0cf9
DTSTAMP:20251216T154650Z
SUMMARY:Semi Formal
URL;VALUE=URI:https://www.adirondackcsd.org/calendar/8480511/semi-formal
DTSTART:20251018T230000Z
DTEND:20251019T020000Z
END:VEVENT
END:VCALENDAR
