BEGIN:VCALENDAR
VERSION:2.0
PRODID:SchoolNow
CALSCALE:GREGORIAN
BEGIN:VEVENT
UID:2ee5dd6a-73d9-11f0-9a94-0affd0ce0cf9
DTSTAMP:20251216T154650Z
SUMMARY:Picture Re-Takes - BE
URL;VALUE=URI:https://www.adirondackcsd.org/calendar/8480512/picture-re-tak
 es-be
DTSTART;VALUE=DATE:20251020
DTEND;VALUE=DATE:20251021
END:VEVENT
END:VCALENDAR
