BEGIN:VCALENDAR
VERSION:2.0
PRODID:SchoolNow
CALSCALE:GREGORIAN
BEGIN:VEVENT
UID:2ee5de50-73d9-11f0-9413-0affd0ce0cf9
DTSTAMP:20251216T154650Z
SUMMARY:NHS Inductions
URL;VALUE=URI:https://www.adirondackcsd.org/calendar/8480513/nhs-inductions
DTSTART:20251022T230000Z
DTEND:20251023T003000Z
END:VEVENT
END:VCALENDAR
