BEGIN:VCALENDAR
VERSION:2.0
PRODID:SchoolNow
CALSCALE:GREGORIAN
BEGIN:VEVENT
UID:2ee5df40-73d9-11f0-bff4-0affd0ce0cf9
DTSTAMP:20251216T154650Z
SUMMARY:Picture Re-Takes - MS/HS
URL;VALUE=URI:https://www.adirondackcsd.org/calendar/8480514/picture-re-tak
 es-ms-hs
DTSTART;VALUE=DATE:20251027
DTEND;VALUE=DATE:20251028
END:VEVENT
END:VCALENDAR
