BEGIN:VCALENDAR
VERSION:2.0
PRODID:SchoolNow
CALSCALE:GREGORIAN
BEGIN:VEVENT
UID:2ee5e03a-73d9-11f0-90b0-0affd0ce0cf9
DTSTAMP:20251216T154650Z
SUMMARY:Halloween
URL;VALUE=URI:https://www.adirondackcsd.org/calendar/8480515/halloween
DTSTART;VALUE=DATE:20251031
DTEND;VALUE=DATE:20251101
END:VEVENT
END:VCALENDAR
