BEGIN:VCALENDAR
VERSION:2.0
PRODID:SchoolNow
CALSCALE:GREGORIAN
BEGIN:VEVENT
UID:2ee5e242-73d9-11f0-90a3-0affd0ce0cf9
DTSTAMP:20251216T154650Z
SUMMARY:Set your clocks back
URL;VALUE=URI:https://www.adirondackcsd.org/calendar/8480517/set-your-clock
 s-back
DTSTART;VALUE=DATE:20251102
DTEND;VALUE=DATE:20251103
END:VEVENT
END:VCALENDAR
