BEGIN:VCALENDAR
VERSION:2.0
PRODID:SchoolNow
CALSCALE:GREGORIAN
BEGIN:VEVENT
UID:2ee5e31e-73d9-11f0-84af-0affd0ce0cf9
DTSTAMP:20251216T154650Z
SUMMARY:Wildcat Wednesday
URL;VALUE=URI:https://www.adirondackcsd.org/calendar/8480518/wildcat-wednes
 day
DTSTART;VALUE=DATE:20251105
DTEND;VALUE=DATE:20251106
END:VEVENT
END:VCALENDAR
