BEGIN:VCALENDAR
VERSION:2.0
PRODID:SchoolNow
CALSCALE:GREGORIAN
BEGIN:VEVENT
UID:2ee5e40e-73d9-11f0-89d4-0affd0ce0cf9
DTSTAMP:20251216T154650Z
SUMMARY:Go Early Drill (Dismissal 10 minutes early)
URL;VALUE=URI:https://www.adirondackcsd.org/calendar/8480519/go-early-drill
 -dismissal-10-minutes-early
DTSTART;VALUE=DATE:20251110
DTEND;VALUE=DATE:20251111
END:VEVENT
END:VCALENDAR
