BEGIN:VCALENDAR
VERSION:2.0
PRODID:SchoolNow
CALSCALE:GREGORIAN
BEGIN:VEVENT
UID:2ee5e4f4-73d9-11f0-be70-0affd0ce0cf9
DTSTAMP:20251216T154650Z
SUMMARY:HS Concert - Band & Choirs
URL;VALUE=URI:https://www.adirondackcsd.org/calendar/8480520/hs-concert-ban
 d-choirs
DTSTART:20251106T000000Z
DTEND:20251106T020000Z
END:VEVENT
END:VCALENDAR
