BEGIN:VCALENDAR
VERSION:2.0
PRODID:SchoolNow
CALSCALE:GREGORIAN
BEGIN:VEVENT
UID:2ee5e5d0-73d9-11f0-82a7-0affd0ce0cf9
DTSTAMP:20251216T154650Z
SUMMARY:Veteran's Day - No School
URL;VALUE=URI:https://www.adirondackcsd.org/calendar/8480521/veterans-day-n
 o-school
DTSTART;VALUE=DATE:20251111
DTEND;VALUE=DATE:20251112
END:VEVENT
END:VCALENDAR
