BEGIN:VCALENDAR
VERSION:2.0
PRODID:SchoolNow
CALSCALE:GREGORIAN
BEGIN:VEVENT
UID:2ee5e6ac-73d9-11f0-ba79-0affd0ce0cf9
DTSTAMP:20251216T154650Z
SUMMARY:Regular Board Mtg - HS Library
URL;VALUE=URI:https://www.adirondackcsd.org/calendar/8480522/regular-board-
 mtg-hs-library
DTSTART:20251112T230000Z
DTEND:20251113T003000Z
END:VEVENT
END:VCALENDAR
