BEGIN:VCALENDAR
VERSION:2.0
PRODID:SchoolNow
CALSCALE:GREGORIAN
BEGIN:VEVENT
UID:2ee5e792-73d9-11f0-8be3-0affd0ce0cf9
DTSTAMP:20251216T154650Z
SUMMARY:Elementary Report Cards Go Home
URL;VALUE=URI:https://www.adirondackcsd.org/calendar/8480523/elementary-rep
 ort-cards-go-home
DTSTART;VALUE=DATE:20251114
DTEND;VALUE=DATE:20251115
END:VEVENT
END:VCALENDAR
