BEGIN:VCALENDAR
VERSION:2.0
PRODID:SchoolNow
CALSCALE:GREGORIAN
BEGIN:VEVENT
UID:2ee5e86e-73d9-11f0-9811-0affd0ce0cf9
DTSTAMP:20251216T154650Z
SUMMARY:UPK-8 Parent/Teacher Conference Days
URL;VALUE=URI:https://www.adirondackcsd.org/calendar/8480524/upk-8-parent-t
 eacher-conference-days
DTSTART;VALUE=DATE:20251119
DTEND;VALUE=DATE:20251120
END:VEVENT
END:VCALENDAR
