BEGIN:VCALENDAR
VERSION:2.0
PRODID:SchoolNow
CALSCALE:GREGORIAN
BEGIN:VEVENT
UID:2ee5e94a-73d9-11f0-998b-0affd0ce0cf9
DTSTAMP:20251216T154650Z
SUMMARY:Area All-State at CVA
URL;VALUE=URI:https://www.adirondackcsd.org/calendar/8480525/area-all-state
 -at-cva
DTSTART;VALUE=DATE:20251121
DTEND;VALUE=DATE:20251123
END:VEVENT
END:VCALENDAR
