BEGIN:VCALENDAR
VERSION:2.0
PRODID:SchoolNow
CALSCALE:GREGORIAN
BEGIN:VEVENT
UID:2ee5ea30-73d9-11f0-bd37-0affd0ce0cf9
DTSTAMP:20251216T154650Z
SUMMARY:Thanksgiving Break
URL;VALUE=URI:https://www.adirondackcsd.org/calendar/8480526/thanksgiving-b
 reak
DTSTART;VALUE=DATE:20251126
DTEND;VALUE=DATE:20251129
END:VEVENT
END:VCALENDAR
