BEGIN:VCALENDAR
VERSION:2.0
PRODID:SchoolNow
CALSCALE:GREGORIAN
BEGIN:VEVENT
UID:2ee5eb0c-73d9-11f0-83a9-0affd0ce0cf9
DTSTAMP:20251216T154650Z
SUMMARY:Wildcat Wednesday
URL;VALUE=URI:https://www.adirondackcsd.org/calendar/8480527/wildcat-wednes
 day
DTSTART;VALUE=DATE:20251203
DTEND;VALUE=DATE:20251204
END:VEVENT
END:VCALENDAR
