BEGIN:VCALENDAR
VERSION:2.0
PRODID:SchoolNow
CALSCALE:GREGORIAN
BEGIN:VEVENT
UID:2ee5ebe8-73d9-11f0-adbd-0affd0ce0cf9
DTSTAMP:20251216T154650Z
SUMMARY:All-State Conference in Rochester
URL;VALUE=URI:https://www.adirondackcsd.org/calendar/8480528/all-state-conf
 erence-in-rochester
DTSTART;VALUE=DATE:20251204
DTEND;VALUE=DATE:20251207
END:VEVENT
END:VCALENDAR
