BEGIN:VCALENDAR
VERSION:2.0
PRODID:SchoolNow
CALSCALE:GREGORIAN
BEGIN:VEVENT
UID:2ee5ecce-73d9-11f0-b3d3-0affd0ce0cf9
DTSTAMP:20251216T154650Z
SUMMARY:Regular Board Mtg - HS Library
URL;VALUE=URI:https://www.adirondackcsd.org/calendar/8480529/regular-board-
 mtg-hs-library
DTSTART:20251209T230000Z
DTEND:20251210T010000Z
END:VEVENT
END:VCALENDAR
