BEGIN:VCALENDAR
VERSION:2.0
PRODID:SchoolNow
CALSCALE:GREGORIAN
BEGIN:VEVENT
UID:2ee5edaa-73d9-11f0-903f-0affd0ce0cf9
DTSTAMP:20251216T154650Z
SUMMARY:MS Concert - Band & Choirs - Art Show
URL;VALUE=URI:https://www.adirondackcsd.org/calendar/8480530/ms-concert-ban
 d-choirs-art-show
DTSTART:20251211T000000Z
DTEND:20251211T013000Z
END:VEVENT
END:VCALENDAR
