BEGIN:VCALENDAR
VERSION:2.0
PRODID:SchoolNow
CALSCALE:GREGORIAN
BEGIN:VEVENT
UID:2ee5ee7c-73d9-11f0-a23d-0affd0ce0cf9
DTSTAMP:20251216T154650Z
SUMMARY:HS Concert/Art Show - Band & Choirs
URL;VALUE=URI:https://www.adirondackcsd.org/calendar/8480531/hs-concert-art
 -show-band-choirs
DTSTART:20251218T000000Z
DTEND:20251218T020000Z
END:VEVENT
END:VCALENDAR
