BEGIN:VCALENDAR
VERSION:2.0
PRODID:SchoolNow
CALSCALE:GREGORIAN
BEGIN:VEVENT
UID:2ee5ef62-73d9-11f0-845a-0affd0ce0cf9
DTSTAMP:20251216T154650Z
SUMMARY:Christmas Break
URL;VALUE=URI:https://www.adirondackcsd.org/calendar/8480532/christmas-brea
 k
DTSTART;VALUE=DATE:20251224
DTEND;VALUE=DATE:20260103
END:VEVENT
END:VCALENDAR
