BEGIN:VCALENDAR
VERSION:2.0
PRODID:SchoolNow
CALSCALE:GREGORIAN
BEGIN:VEVENT
UID:2ee5f03e-73d9-11f0-ae79-0affd0ce0cf9
DTSTAMP:20251216T154650Z
SUMMARY:Welcome Back!
URL;VALUE=URI:https://www.adirondackcsd.org/calendar/8480533/welcome-back
DTSTART;VALUE=DATE:20260105
DTEND;VALUE=DATE:20260106
END:VEVENT
END:VCALENDAR
