BEGIN:VCALENDAR
VERSION:2.0
PRODID:SchoolNow
CALSCALE:GREGORIAN
BEGIN:VEVENT
UID:2ee5f2e6-73d9-11f0-acf7-0affd0ce0cf9
DTSTAMP:20251216T154650Z
SUMMARY:Jr. High All-County Auditions - New Hartford
URL;VALUE=URI:https://www.adirondackcsd.org/calendar/8480536/jr-high-all-co
 unty-auditions-new-hartford
DTSTART;VALUE=DATE:20260114
DTEND;VALUE=DATE:20260115
END:VEVENT
END:VCALENDAR
