BEGIN:VCALENDAR
VERSION:2.0
PRODID:SchoolNow
CALSCALE:GREGORIAN
BEGIN:VEVENT
UID:2ee5f3c2-73d9-11f0-ba99-0affd0ce0cf9
DTSTAMP:20251216T154650Z
SUMMARY:Martin Luther King Day - No School
URL;VALUE=URI:https://www.adirondackcsd.org/calendar/8480537/martin-luther-
 king-day-no-school
DTSTART;VALUE=DATE:20260119
DTEND;VALUE=DATE:20260120
END:VEVENT
END:VCALENDAR
