BEGIN:VCALENDAR
VERSION:2.0
PRODID:SchoolNow
CALSCALE:GREGORIAN
BEGIN:VEVENT
UID:2ee5f49e-73d9-11f0-a8c0-0affd0ce0cf9
DTSTAMP:20251216T154650Z
SUMMARY:Regents Exams
URL;VALUE=URI:https://www.adirondackcsd.org/calendar/8480538/regents-exams
DTSTART;VALUE=DATE:20260120
DTEND;VALUE=DATE:20260124
END:VEVENT
END:VCALENDAR
