BEGIN:VCALENDAR
VERSION:2.0
PRODID:SchoolNow
CALSCALE:GREGORIAN
BEGIN:VEVENT
UID:2ee5f57a-73d9-11f0-965c-0affd0ce0cf9
DTSTAMP:20251216T154650Z
SUMMARY:2nd Regular Board Mtg - HS Library
URL;VALUE=URI:https://www.adirondackcsd.org/calendar/8480539/2nd-regular-bo
 ard-mtg-hs-library
DTSTART:20260127T230000Z
DTEND:20260128T010000Z
END:VEVENT
END:VCALENDAR
