BEGIN:VCALENDAR
VERSION:2.0
PRODID:SchoolNow
CALSCALE:GREGORIAN
BEGIN:VEVENT
UID:2ee5f73c-73d9-11f0-8a8e-0affd0ce0cf9
DTSTAMP:20251216T154650Z
SUMMARY:Elementary Report Cards Go Home
URL;VALUE=URI:https://www.adirondackcsd.org/calendar/8480541/elementary-rep
 ort-cards-go-home
DTSTART;VALUE=DATE:20260206
DTEND;VALUE=DATE:20260207
END:VEVENT
END:VCALENDAR
