BEGIN:VCALENDAR
VERSION:2.0
PRODID:SchoolNow
CALSCALE:GREGORIAN
BEGIN:VEVENT
UID:2ee5f9c6-73d9-11f0-ae74-0affd0ce0cf9
DTSTAMP:20251216T154650Z
SUMMARY:Valentine's Day
URL;VALUE=URI:https://www.adirondackcsd.org/calendar/8480544/valentines-day
DTSTART;VALUE=DATE:20260214
DTEND;VALUE=DATE:20260215
END:VEVENT
END:VCALENDAR
