BEGIN:VCALENDAR
VERSION:2.0
PRODID:SchoolNow
CALSCALE:GREGORIAN
BEGIN:VEVENT
UID:2ee5faac-73d9-11f0-b0eb-0affd0ce0cf9
DTSTAMP:20251216T154650Z
SUMMARY:February Break
URL;VALUE=URI:https://www.adirondackcsd.org/calendar/8480545/february-break
DTSTART;VALUE=DATE:20260216
DTEND;VALUE=DATE:20260221
END:VEVENT
END:VCALENDAR
