BEGIN:VCALENDAR
VERSION:2.0
PRODID:SchoolNow
CALSCALE:GREGORIAN
BEGIN:VEVENT
UID:2ee5fb7e-73d9-11f0-b270-0affd0ce0cf9
DTSTAMP:20251216T154650Z
SUMMARY:President's Day - School Offices Closed
URL;VALUE=URI:https://www.adirondackcsd.org/calendar/8480546/presidents-day
 -school-offices-closed
DTSTART;VALUE=DATE:20260216
DTEND;VALUE=DATE:20260217
END:VEVENT
END:VCALENDAR
