BEGIN:VCALENDAR
VERSION:2.0
PRODID:SchoolNow
CALSCALE:GREGORIAN
BEGIN:VEVENT
UID:2ee5fc5a-73d9-11f0-8cda-0affd0ce0cf9
DTSTAMP:20251216T154650Z
SUMMARY:Lunar New Year
URL;VALUE=URI:https://www.adirondackcsd.org/calendar/8480547/lunar-new-year
DTSTART;VALUE=DATE:20260217
DTEND;VALUE=DATE:20260218
END:VEVENT
END:VCALENDAR
