BEGIN:VCALENDAR
VERSION:2.0
PRODID:SchoolNow
CALSCALE:GREGORIAN
BEGIN:VEVENT
UID:2ee5fd36-73d9-11f0-b921-0affd0ce0cf9
DTSTAMP:20251216T154650Z
SUMMARY:National FFA Week
URL;VALUE=URI:https://www.adirondackcsd.org/calendar/8480548/national-ffa-w
 eek
DTSTART;VALUE=DATE:20260223
DTEND;VALUE=DATE:20260228
END:VEVENT
END:VCALENDAR
