BEGIN:VCALENDAR
VERSION:2.0
PRODID:SchoolNow
CALSCALE:GREGORIAN
BEGIN:VEVENT
UID:2ee5fe12-73d9-11f0-928b-0affd0ce0cf9
DTSTAMP:20251216T154650Z
SUMMARY:Board of Education Petitions
URL;VALUE=URI:https://www.adirondackcsd.org/calendar/8480549/board-of-educa
 tion-petitions
DTSTART;VALUE=DATE:20260302
DTEND;VALUE=DATE:20260303
END:VEVENT
END:VCALENDAR
