BEGIN:VCALENDAR
VERSION:2.0
PRODID:SchoolNow
CALSCALE:GREGORIAN
BEGIN:VEVENT
UID:2ee5feee-73d9-11f0-be6c-0affd0ce0cf9
DTSTAMP:20251216T154650Z
SUMMARY:Wildcat Wednesday
URL;VALUE=URI:https://www.adirondackcsd.org/calendar/8480550/wildcat-wednes
 day
DTSTART;VALUE=DATE:20260304
DTEND;VALUE=DATE:20260305
END:VEVENT
END:VCALENDAR
