BEGIN:VCALENDAR
VERSION:2.0
PRODID:SchoolNow
CALSCALE:GREGORIAN
BEGIN:VEVENT
UID:2ee5ffca-73d9-11f0-bfc6-0affd0ce0cf9
DTSTAMP:20251216T154650Z
SUMMARY:Regular Board Meeting - HS Library
URL;VALUE=URI:https://www.adirondackcsd.org/calendar/8480551/regular-board-
 meeting-hs-library
DTSTART:20260310T220000Z
DTEND:20260311T000000Z
END:VEVENT
END:VCALENDAR
