BEGIN:VCALENDAR
VERSION:2.0
PRODID:SchoolNow
CALSCALE:GREGORIAN
BEGIN:VEVENT
UID:2ee6009c-73d9-11f0-84f4-0affd0ce0cf9
DTSTAMP:20251216T154650Z
SUMMARY:National Pi Day
URL;VALUE=URI:https://www.adirondackcsd.org/calendar/8480552/national-pi-da
 y
DTSTART;VALUE=DATE:20260314
DTEND;VALUE=DATE:20260315
END:VEVENT
END:VCALENDAR
