BEGIN:VCALENDAR
VERSION:2.0
PRODID:SchoolNow
CALSCALE:GREGORIAN
BEGIN:VEVENT
UID:2ee60178-73d9-11f0-b3c5-0affd0ce0cf9
DTSTAMP:20251216T154650Z
SUMMARY:Spring Ahead - change clocks
URL;VALUE=URI:https://www.adirondackcsd.org/calendar/8480553/spring-ahead-c
 hange-clocks
DTSTART;VALUE=DATE:20260308
DTEND;VALUE=DATE:20260309
END:VEVENT
END:VCALENDAR
