BEGIN:VCALENDAR
VERSION:2.0
PRODID:SchoolNow
CALSCALE:GREGORIAN
BEGIN:VEVENT
UID:2ee60254-73d9-11f0-ba6b-0affd0ce0cf9
DTSTAMP:20251216T154650Z
SUMMARY:Happy St. Patrick's Day
URL;VALUE=URI:https://www.adirondackcsd.org/calendar/8480554/happy-st-patri
 cks-day
DTSTART;VALUE=DATE:20260317
DTEND;VALUE=DATE:20260318
END:VEVENT
END:VCALENDAR
