BEGIN:VCALENDAR
VERSION:2.0
PRODID:SchoolNow
CALSCALE:GREGORIAN
BEGIN:VEVENT
UID:2ee60326-73d9-11f0-9a8c-0affd0ce0cf9
DTSTAMP:20251216T154650Z
SUMMARY:Musical Performance for Elementary
URL;VALUE=URI:https://www.adirondackcsd.org/calendar/8480555/musical-perfor
 mance-for-elementary
DTSTART;VALUE=DATE:20260318
DTEND;VALUE=DATE:20260319
END:VEVENT
END:VCALENDAR
