BEGIN:VCALENDAR
VERSION:2.0
PRODID:SchoolNow
CALSCALE:GREGORIAN
BEGIN:VEVENT
UID:2f0e4eda-73d9-11f0-83ff-0affd0ce0cf9
DTSTAMP:20251216T154650Z
SUMMARY:Musical - HS Auditorium
URL;VALUE=URI:https://www.adirondackcsd.org/calendar/8480558/musical-hs-aud
 itorium
DTSTART:20260321T230000Z
DTEND:20260322T010000Z
END:VEVENT
END:VCALENDAR
