BEGIN:VCALENDAR
VERSION:2.0
PRODID:SchoolNow
CALSCALE:GREGORIAN
BEGIN:VEVENT
UID:2f0e4fe8-73d9-11f0-a7e5-0affd0ce0cf9
DTSTAMP:20251216T154650Z
SUMMARY:2nd Board Mtg - HS Library
URL;VALUE=URI:https://www.adirondackcsd.org/calendar/8480559/2nd-board-mtg-
 hs-library
DTSTART:20260324T220000Z
DTEND:20260325T000000Z
END:VEVENT
END:VCALENDAR
