BEGIN:VCALENDAR
VERSION:2.0
PRODID:SchoolNow
CALSCALE:GREGORIAN
BEGIN:VEVENT
UID:2f0e50d8-73d9-11f0-ad7f-0affd0ce0cf9
DTSTAMP:20251216T154650Z
SUMMARY:2nd Board Mtg - HS Library
URL;VALUE=URI:https://www.adirondackcsd.org/calendar/8480560/2nd-board-mtg-
 hs-library
DTSTART:20260224T230000Z
DTEND:20260225T010000Z
END:VEVENT
END:VCALENDAR
