BEGIN:VCALENDAR
VERSION:2.0
PRODID:SchoolNow
CALSCALE:GREGORIAN
BEGIN:VEVENT
UID:2f0e51d2-73d9-11f0-84c9-0affd0ce0cf9
DTSTAMP:20251216T154650Z
SUMMARY:Jr. High All-County at Adirondack
URL;VALUE=URI:https://www.adirondackcsd.org/calendar/8480561/jr-high-all-co
 unty-at-adirondack
DTSTART;VALUE=DATE:20260327
DTEND;VALUE=DATE:20260329
END:VEVENT
END:VCALENDAR
