BEGIN:VCALENDAR
VERSION:2.0
PRODID:SchoolNow
CALSCALE:GREGORIAN
BEGIN:VEVENT
UID:2f0e5556-73d9-11f0-8bc6-0affd0ce0cf9
DTSTAMP:20251216T154650Z
SUMMARY:Spring Recess
URL;VALUE=URI:https://www.adirondackcsd.org/calendar/8480565/spring-recess
DTSTART;VALUE=DATE:20260406
DTEND;VALUE=DATE:20260411
END:VEVENT
END:VCALENDAR
