BEGIN:VCALENDAR
VERSION:2.0
PRODID:SchoolNow
CALSCALE:GREGORIAN
BEGIN:VEVENT
UID:2f0e5c40-73d9-11f0-ab17-0affd0ce0cf9
DTSTAMP:20251216T154650Z
SUMMARY:Wildcat Wednesday
URL;VALUE=URI:https://www.adirondackcsd.org/calendar/8480573/wildcat-wednes
 day
DTSTART;VALUE=DATE:20260506
DTEND;VALUE=DATE:20260507
END:VEVENT
END:VCALENDAR
