BEGIN:VCALENDAR
VERSION:2.0
PRODID:SchoolNow
CALSCALE:GREGORIAN
BEGIN:VEVENT
UID:2f0e5d80-73d9-11f0-a733-0affd0ce0cf9
DTSTAMP:20251216T154650Z
SUMMARY:3-8 Math State Tests
URL;VALUE=URI:https://www.adirondackcsd.org/calendar/8480574/3-8-math-state
 -tests
DTSTART;VALUE=DATE:20260505
DTEND;VALUE=DATE:20260507
END:VEVENT
END:VCALENDAR
